BEGIN:VCALENDAR
VERSION:2.0
PRODID:-//Gemeinde Oberahr / Westerwald//NONSGML kigkonsult.se iCalcreator 
 2.30.10//
CALSCALE:GREGORIAN
METHOD:PUBLISH
UID:fb67f40f-935b-44e0-bc22-0d3706a009e1
X-WR-CALNAME:iCagenda
X-WR-CALDESC:Event Management Extension for Joomla!
X-WR-RELCALID:3E26604A-50F4-4449-8B3E-E4F4932D05B5
X-WR-TIMEZONE:UTC
BEGIN:VTIMEZONE
TZID:UTC
END:VTIMEZONE
BEGIN:VEVENT
UID:30182746-8c0b-449c-a02b-73ee13971ac5
DTSTAMP:20260420T121905Z
CATEGORIES:Hallenbelegung
CLASS:PUBLIC
DESCRIPTION;ALTREP="CID:<FFFF__=0ABBE548DFE235B58f9e8a93d@coffeebean.com>":
 Yi Jin Jing Training des Harmonie\, Bewegung Gesundheit e.V. Oberahr
DTSTART:20250711T190000Z
DTEND:20250711T200000Z
GEO:00;0
LOCATION:Dorfgemeinschaftshalle Oberahr
ORGANIZER;CN=:Johannes.Steudter@rz-online.de
SEQUENCE:1
SUMMARY:HBG e.V. Yi Jin Jing
TRANSP:OPAQUE
URL:https://oberahr.de/dorfgemeinschaftshalle/dgh-belegungsplan/99-hbg-e-v-
 yi-jin-jing/2025-07-11-19-00
END:VEVENT
END:VCALENDAR
