BEGIN:VCALENDAR
VERSION:2.0
PRODID:-//Gemeinde Oberahr / Westerwald//NONSGML kigkonsult.se iCalcreator 
 2.30.10//
CALSCALE:GREGORIAN
METHOD:PUBLISH
UID:38aa040a-d5f7-4e6c-b619-26b599185502
X-WR-CALNAME:iCagenda
X-WR-CALDESC:Event Management Extension for Joomla!
X-WR-RELCALID:3E26604A-50F4-4449-8B3E-E4F4932D05B5
X-WR-TIMEZONE:UTC
BEGIN:VTIMEZONE
TZID:UTC
END:VTIMEZONE
BEGIN:VEVENT
UID:88b15d59-6906-46af-af79-b81af735a8c9
DTSTAMP:20260421T203032Z
CATEGORIES:Hallenbelegung
CLASS:PUBLIC
DESCRIPTION;ALTREP="CID:<FFFF__=0ABBE548DFE235B58f9e8a93d@coffeebean.com>":
 Jeden zweiten Montag findet die Chorprobe des MGV 'Harmonie 1919' Oberahr 
 e.V. im Vereinsraum der DGH statt.
DTSTART:20260629T190000Z
DTEND:20260629T210000Z
GEO:00;0
LOCATION:Dorfgemeinschaftshalle Oberahr
ORGANIZER;CN=:karstenopper@gmx.de
SEQUENCE:1
SUMMARY:MGV Chorprobe
TRANSP:OPAQUE
URL:https://oberahr.de/dorfgemeinschaftshalle/dgh-belegungsplan/95-mgv-chor
 probe/2026-06-29-19-00
END:VEVENT
END:VCALENDAR
