BEGIN:VCALENDAR
VERSION:2.0
PRODID:-//Gemeinde Oberahr / Westerwald//NONSGML kigkonsult.se iCalcreator 
 2.30.10//
CALSCALE:GREGORIAN
METHOD:PUBLISH
UID:f96dd12d-f023-4301-87fb-a8dd0c3a2199
X-WR-CALNAME:iCagenda
X-WR-CALDESC:Event Management Extension for Joomla!
X-WR-RELCALID:3E26604A-50F4-4449-8B3E-E4F4932D05B5
X-WR-TIMEZONE:UTC
BEGIN:VTIMEZONE
TZID:UTC
END:VTIMEZONE
BEGIN:VEVENT
UID:bece7cc1-0814-4844-b466-d88f79035a00
DTSTAMP:20260422T002827Z
CATEGORIES:Hallenbelegung
CLASS:PUBLIC
DESCRIPTION:
DTSTART:20280423T191600Z
DTEND:20280423T191600Z
GEO:+50.503906;+7.867984
LOCATION:Dorfgemeinschaftshalle komplett
ORGANIZER:
SEQUENCE:1
SUMMARY:Kommunion E. Hebgen
TRANSP:OPAQUE
URL:https://oberahr.de/dorfgemeinschaftshalle/dgh-belegungsplan/257-kommuni
 on-e-hebgen/2028-04-23-19-16
END:VEVENT
END:VCALENDAR
