BEGIN:VCALENDAR
VERSION:2.0
PRODID:-//Gemeinde Oberahr / Westerwald//NONSGML kigkonsult.se iCalcreator 
 2.30.10//
CALSCALE:GREGORIAN
METHOD:PUBLISH
UID:5a8c4b1a-6a48-46b0-bec2-55b459769cd5
X-WR-CALNAME:iCagenda
X-WR-CALDESC:Event Management Extension for Joomla!
X-WR-RELCALID:3E26604A-50F4-4449-8B3E-E4F4932D05B5
X-WR-TIMEZONE:UTC
BEGIN:VTIMEZONE
TZID:UTC
END:VTIMEZONE
BEGIN:VEVENT
UID:0cbb27bd-a711-4065-a743-c8610c62a7ad
DTSTAMP:20260425T042122Z
CATEGORIES:Hallenbelegung
CLASS:PUBLIC
DESCRIPTION:
DTSTART:20270404T185900Z
DTEND:20270404T185900Z
GEO:00;0
LOCATION:Nebenraum und Küche DGH
ORGANIZER:
SEQUENCE:1
SUMMARY:Kommunion Henry Hebgen
TRANSP:OPAQUE
URL:https://oberahr.de/dorfgemeinschaftshalle/dgh-belegungsplan/248-kommuni
 on-henry-hebgen/2027-04-04-18-59
END:VEVENT
END:VCALENDAR
