BEGIN:VCALENDAR
VERSION:2.0
PRODID:-//Gemeinde Oberahr / Westerwald//NONSGML kigkonsult.se iCalcreator 
 2.30.10//
CALSCALE:GREGORIAN
METHOD:PUBLISH
UID:0c38804d-cfb4-4e1c-a51e-25ced174be35
X-WR-CALNAME:iCagenda
X-WR-CALDESC:Event Management Extension for Joomla!
X-WR-RELCALID:3E26604A-50F4-4449-8B3E-E4F4932D05B5
X-WR-TIMEZONE:UTC
BEGIN:VTIMEZONE
TZID:UTC
END:VTIMEZONE
BEGIN:VEVENT
UID:7b96cbf2-779a-495f-b4ea-12a12a0cc371
DTSTAMP:20260425T010012Z
CATEGORIES:Hallenbelegung
CLASS:PUBLIC
DESCRIPTION:
DTSTART:20260307T111600Z
DTEND:20260307T111600Z
GEO:00;0
LOCATION:Nebenraum DGH
ORGANIZER:
SEQUENCE:1
SUMMARY:Private Feier Manns
TRANSP:OPAQUE
URL:https://oberahr.de/dorfgemeinschaftshalle/dgh-belegungsplan/246-private
 -feier-manns/2026-03-07-11-16
END:VEVENT
END:VCALENDAR
