BEGIN:VCALENDAR
VERSION:2.0
PRODID:-//Gemeinde Oberahr / Westerwald//NONSGML kigkonsult.se iCalcreator 
 2.30.10//
CALSCALE:GREGORIAN
METHOD:PUBLISH
UID:b84c9d9b-c3ad-4f4f-8997-f9f4c7b093f7
X-WR-CALNAME:iCagenda
X-WR-CALDESC:Event Management Extension for Joomla!
X-WR-RELCALID:3E26604A-50F4-4449-8B3E-E4F4932D05B5
X-WR-TIMEZONE:UTC
BEGIN:VTIMEZONE
TZID:UTC
END:VTIMEZONE
BEGIN:VEVENT
UID:2f0d16db-e353-4fbb-84b7-6464e969dee1
DTSTAMP:20260419T182359Z
CATEGORIES:Hallenbelegung
CLASS:PUBLIC
DESCRIPTION:
DTSTART:20260317T170000Z
DTEND:20260317T170000Z
GEO:00;0
LOCATION:Dorfgemeinschaftshalle Oberahr
ORGANIZER:
SEQUENCE:1
SUMMARY:TuS Niederahr Training E-Jugend
TRANSP:OPAQUE
URL:https://oberahr.de/dorfgemeinschaftshalle/dgh-belegungsplan/243-tus-nie
 derahr-training-e-jugend/2026-03-17-17-00
END:VEVENT
END:VCALENDAR
