BEGIN:VCALENDAR
VERSION:2.0
PRODID:-//Gemeinde Oberahr / Westerwald//NONSGML kigkonsult.se iCalcreator 
 2.30.10//
CALSCALE:GREGORIAN
METHOD:PUBLISH
UID:c1b010d6-e861-406e-b81d-701e911cfd1e
X-WR-CALNAME:iCagenda
X-WR-CALDESC:Event Management Extension for Joomla!
X-WR-RELCALID:3E26604A-50F4-4449-8B3E-E4F4932D05B5
X-WR-TIMEZONE:UTC
BEGIN:VTIMEZONE
TZID:UTC
END:VTIMEZONE
BEGIN:VEVENT
UID:5c0f706f-523f-4e1f-a250-7568e372f163
DTSTAMP:20260422T112355Z
CATEGORIES:Hallenbelegung
CLASS:PUBLIC
DESCRIPTION:
DTSTART:20250822T000000Z
DTEND:20250822T000000Z
GEO:00;0
LOCATION:Dorfgemeinschaftshalle Oberahr
ORGANIZER:
SEQUENCE:1
SUMMARY:Private Feier - Bastian
TRANSP:OPAQUE
URL:https://oberahr.de/dorfgemeinschaftshalle/dgh-belegungsplan/210-private
 -feier-bastian/2025-08-22-00-00
END:VEVENT
END:VCALENDAR
