BEGIN:VCALENDAR
VERSION:2.0
PRODID:-//Gemeinde Oberahr / Westerwald//NONSGML kigkonsult.se iCalcreator 
 2.30.10//
CALSCALE:GREGORIAN
METHOD:PUBLISH
UID:bbd24b3e-70c0-444e-8ca5-9ec2538209a7
X-WR-CALNAME:iCagenda
X-WR-CALDESC:Event Management Extension for Joomla!
X-WR-RELCALID:3E26604A-50F4-4449-8B3E-E4F4932D05B5
X-WR-TIMEZONE:UTC
BEGIN:VTIMEZONE
TZID:UTC
END:VTIMEZONE
BEGIN:VEVENT
UID:0c402a09-93eb-4a28-a431-418bb10e8d44
DTSTAMP:20260424T151904Z
CATEGORIES:Hallenbelegung
CLASS:PUBLIC
DESCRIPTION:
DTSTART:20260827T150000Z
DTEND:20260827T150000Z
GEO:00;0
LOCATION:Dorfgemeinschaftshalle Oberahr
ORGANIZER:
SEQUENCE:1
SUMMARY:TuS Kinderturnen
TRANSP:OPAQUE
URL:https://oberahr.de/dorfgemeinschaftshalle/dgh-belegungsplan/123-tus-kin
 derturnen/2026-08-27-15-00
END:VEVENT
END:VCALENDAR
