BEGIN:VCALENDAR
VERSION:2.0
PRODID:-//Gemeinde Oberahr / Westerwald//NONSGML kigkonsult.se iCalcreator 
 2.30.10//
CALSCALE:GREGORIAN
METHOD:PUBLISH
UID:faa3a2a3-5a59-46ff-ba72-2f8c2e95986f
X-WR-CALNAME:iCagenda
X-WR-CALDESC:Event Management Extension for Joomla!
X-WR-RELCALID:3E26604A-50F4-4449-8B3E-E4F4932D05B5
X-WR-TIMEZONE:UTC
BEGIN:VTIMEZONE
TZID:UTC
END:VTIMEZONE
BEGIN:VEVENT
UID:3d477be9-5e37-4839-80b2-255f2dcaccfe
DTSTAMP:20260422T084705Z
CATEGORIES:Hallenbelegung
CLASS:PUBLIC
DESCRIPTION;ALTREP="CID:<FFFF__=0ABBE548DFE235B58f9e8a93d@coffeebean.com>":
 Dienstags Abends findet das Volleyballtraining des TUS Oberahr statt
DTSTART:20250820T203000Z
DTEND:20250820T220000Z
GEO:00;0
LOCATION:Dorfgemeinschaftshalle Oberahr
ORGANIZER;CN=:vorstand@tus-oberahr.de
SEQUENCE:1
SUMMARY:TUS Volleyball
TRANSP:OPAQUE
URL:https://oberahr.de/component/icagenda/97-tus-volleyball/2025-08-20-20-3
 0
END:VEVENT
END:VCALENDAR
