BEGIN:VCALENDAR
VERSION:2.0
PRODID:-//Gemeinde Oberahr / Westerwald//NONSGML kigkonsult.se iCalcreator 
 2.30.10//
CALSCALE:GREGORIAN
METHOD:PUBLISH
UID:0fae95c7-94f9-40ca-9a38-4c46d8ea6a0f
X-WR-CALNAME:iCagenda
X-WR-CALDESC:Event Management Extension for Joomla!
X-WR-RELCALID:3E26604A-50F4-4449-8B3E-E4F4932D05B5
X-WR-TIMEZONE:UTC
BEGIN:VTIMEZONE
TZID:UTC
END:VTIMEZONE
BEGIN:VEVENT
UID:3739d898-980c-4242-8ff3-cd889ca504cc
DTSTAMP:20260425T022400Z
CATEGORIES:Hallenbelegung
CLASS:PUBLIC
DESCRIPTION;ALTREP="CID:<FFFF__=0ABBE548DFE235B58f9e8a93d@coffeebean.com>":
 das Seniorenturnen findet jeden Dienstag von 16.30 Uhr bis 17:30 Uhr statt
DTSTART:20221129T090000Z
DTEND:20221129T100000Z
GEO:00;0
LOCATION:Dorfgemeinschaftshalle Oberahr
ORGANIZER;CN=:Anke.Wedel@freenet.de
SEQUENCE:1
SUMMARY:Seniorenturnen DGV Oberahr
TRANSP:OPAQUE
URL:https://oberahr.de/component/icagenda/96-seniorenturnen-dgv-oberahr/202
 2-11-29-09-00
END:VEVENT
END:VCALENDAR
