BEGIN:VCALENDAR
VERSION:2.0
PRODID:-//Gemeinde Oberahr / Westerwald//NONSGML kigkonsult.se iCalcreator 
 2.30.10//
CALSCALE:GREGORIAN
METHOD:PUBLISH
UID:9b9a0b74-86f7-4ebb-8d95-e0df822bd816
X-WR-CALNAME:iCagenda
X-WR-CALDESC:Event Management Extension for Joomla!
X-WR-RELCALID:3E26604A-50F4-4449-8B3E-E4F4932D05B5
X-WR-TIMEZONE:UTC
BEGIN:VTIMEZONE
TZID:UTC
END:VTIMEZONE
BEGIN:VEVENT
UID:3ba3864c-5df0-4dcc-919a-1319098f1192
DTSTAMP:20260424T173348Z
CATEGORIES:Hallenbelegung
CLASS:PUBLIC
DESCRIPTION;ALTREP="CID:<FFFF__=0ABBE548DFE235B58f9e8a93d@coffeebean.com>":
 das Seniorenturnen findet jeden Dienstag von 16.30 Uhr bis 17:30 Uhr statt
DTSTART:20211221T090000Z
DTEND:20211221T100000Z
GEO:00;0
LOCATION:Dorfgemeinschaftshalle Oberahr
ORGANIZER;CN=:Anke.Wedel@freenet.de
SEQUENCE:1
SUMMARY:Seniorenturnen DGV Oberahr
TRANSP:OPAQUE
URL:https://oberahr.de/component/icagenda/96-seniorenturnen-dgv-oberahr/202
 1-12-21-09-00
END:VEVENT
END:VCALENDAR
