BEGIN:VCALENDAR
VERSION:2.0
PRODID:-//Gemeinde Oberahr / Westerwald//NONSGML kigkonsult.se iCalcreator 
 2.30.10//
CALSCALE:GREGORIAN
METHOD:PUBLISH
UID:64b125bc-1a6f-4d11-8631-e2882c18a2fa
X-WR-CALNAME:iCagenda
X-WR-CALDESC:Event Management Extension for Joomla!
X-WR-RELCALID:3E26604A-50F4-4449-8B3E-E4F4932D05B5
X-WR-TIMEZONE:UTC
BEGIN:VTIMEZONE
TZID:UTC
END:VTIMEZONE
BEGIN:VEVENT
UID:e984c1c8-8451-4975-b2e9-6be27069d845
DTSTAMP:20260421T101531Z
CATEGORIES:Hallenbelegung
CLASS:PUBLIC
DESCRIPTION;ALTREP="CID:<FFFF__=0ABBE548DFE235B58f9e8a93d@coffeebean.com>":
 Jeden zweiten Montag findet die Chorprobe des MGV 'Harmonie 1919' Oberahr 
 e.V. im Vereinsraum der DGH statt.
DTSTART:20251124T190000Z
DTEND:20251124T210000Z
GEO:00;0
LOCATION:Dorfgemeinschaftshalle Oberahr
ORGANIZER;CN=:karstenopper@gmx.de
SEQUENCE:1
SUMMARY:MGV Chorprobe
TRANSP:OPAQUE
URL:https://oberahr.de/component/icagenda/95-mgv-chorprobe/2025-11-24-19-00
 ?iccaldate=2027-04-1
END:VEVENT
END:VCALENDAR
