BEGIN:VCALENDAR
VERSION:2.0
PRODID:-//Gemeinde Oberahr / Westerwald//NONSGML kigkonsult.se iCalcreator 
 2.30.10//
CALSCALE:GREGORIAN
METHOD:PUBLISH
UID:d1b8140b-5b63-4812-8162-4a0b90aedd91
X-WR-CALNAME:iCagenda
X-WR-CALDESC:Event Management Extension for Joomla!
X-WR-RELCALID:3E26604A-50F4-4449-8B3E-E4F4932D05B5
X-WR-TIMEZONE:UTC
BEGIN:VTIMEZONE
TZID:UTC
END:VTIMEZONE
BEGIN:VEVENT
UID:cf22edb0-ebc6-4286-820f-4588edf22d1a
DTSTAMP:20260425T152629Z
CATEGORIES:Hallenbelegung
CLASS:PUBLIC
DESCRIPTION;ALTREP="CID:<FFFF__=0ABBE548DFE235B58f9e8a93d@coffeebean.com>":
 Jeden zweiten Montag findet die Chorprobe des MGV 'Harmonie 1919' Oberahr 
 e.V. im Vereinsraum der DGH statt.
DTSTART:20230515T190000Z
DTEND:20230515T210000Z
GEO:00;0
LOCATION:Dorfgemeinschaftshalle Oberahr
ORGANIZER;CN=:karstenopper@gmx.de
SEQUENCE:1
SUMMARY:MGV Chorprobe
TRANSP:OPAQUE
URL:https://oberahr.de/component/icagenda/95-mgv-chorprobe/2023-05-15-19-00
END:VEVENT
END:VCALENDAR
