BEGIN:VCALENDAR
VERSION:2.0
PRODID:-//Gemeinde Oberahr / Westerwald//NONSGML kigkonsult.se iCalcreator 
 2.30.10//
CALSCALE:GREGORIAN
METHOD:PUBLISH
UID:4ffec76d-2d30-452e-b920-8b8c76f6be3f
X-WR-CALNAME:iCagenda
X-WR-CALDESC:Event Management Extension for Joomla!
X-WR-RELCALID:3E26604A-50F4-4449-8B3E-E4F4932D05B5
X-WR-TIMEZONE:UTC
BEGIN:VTIMEZONE
TZID:UTC
END:VTIMEZONE
BEGIN:VEVENT
UID:ecc18339-06ee-4a8e-b97b-7033300f1ee2
DTSTAMP:20260425T014026Z
CATEGORIES:Hallenbelegung
CLASS:PUBLIC
DESCRIPTION;ALTREP="CID:<FFFF__=0ABBE548DFE235B58f9e8a93d@coffeebean.com>":
 Jeden zweiten Montag findet die Chorprobe des MGV 'Harmonie 1919' Oberahr 
 e.V. im Vereinsraum der DGH statt.
DTSTART:20221121T190000Z
DTEND:20221121T210000Z
GEO:00;0
LOCATION:Dorfgemeinschaftshalle Oberahr
ORGANIZER;CN=:karstenopper@gmx.de
SEQUENCE:1
SUMMARY:MGV Chorprobe
TRANSP:OPAQUE
URL:https://oberahr.de/component/icagenda/95-mgv-chorprobe/2022-11-21-19-00
END:VEVENT
END:VCALENDAR
