BEGIN:VCALENDAR
VERSION:2.0
PRODID:-//Gemeinde Oberahr / Westerwald//NONSGML kigkonsult.se iCalcreator 
 2.30.10//
CALSCALE:GREGORIAN
METHOD:PUBLISH
UID:fbfeeb3e-219e-4f13-8ab1-7ffa82b4cafa
X-WR-CALNAME:iCagenda
X-WR-CALDESC:Event Management Extension for Joomla!
X-WR-RELCALID:3E26604A-50F4-4449-8B3E-E4F4932D05B5
X-WR-TIMEZONE:UTC
BEGIN:VTIMEZONE
TZID:UTC
END:VTIMEZONE
BEGIN:VEVENT
UID:eff8e73d-313e-4777-bd7b-373de532952d
DTSTAMP:20260422T144209Z
CATEGORIES:Hallenbelegung
CLASS:PUBLIC
DESCRIPTION:
DTSTART:20260106T170000Z
DTEND:20260106T170000Z
GEO:00;0
LOCATION:Dorfgemeinschaftshalle Oberahr
ORGANIZER:
SEQUENCE:1
SUMMARY:TuS Niederahr Training E-Jugend
TRANSP:OPAQUE
URL:https://oberahr.de/component/icagenda/243-tus-niederahr-training-e-juge
 nd/2026-01-06-17-00
END:VEVENT
END:VCALENDAR
