BEGIN:VCALENDAR
VERSION:2.0
PRODID:-//Gemeinde Oberahr / Westerwald//NONSGML kigkonsult.se iCalcreator 
 2.30.10//
CALSCALE:GREGORIAN
METHOD:PUBLISH
UID:3aaa8bf0-65dc-4374-ab3d-6b56486438f5
X-WR-CALNAME:iCagenda
X-WR-CALDESC:Event Management Extension for Joomla!
X-WR-RELCALID:3E26604A-50F4-4449-8B3E-E4F4932D05B5
X-WR-TIMEZONE:UTC
BEGIN:VTIMEZONE
TZID:UTC
END:VTIMEZONE
BEGIN:VEVENT
UID:ea9966c7-7813-4ec0-a266-2eef0bed6497
DTSTAMP:20260420T050236Z
CATEGORIES:Hallenbelegung
CLASS:PUBLIC
DESCRIPTION:
DTSTART:20251230T170000Z
DTEND:20251230T170000Z
GEO:00;0
LOCATION:Dorfgemeinschaftshalle Oberahr
ORGANIZER:
SEQUENCE:1
SUMMARY:TuS Niederahr Training E-Jugend
TRANSP:OPAQUE
URL:https://oberahr.de/component/icagenda/243-tus-niederahr-training-e-juge
 nd/2025-12-30-17-00
END:VEVENT
END:VCALENDAR
