BEGIN:VCALENDAR
VERSION:2.0
PRODID:-//Gemeinde Oberahr / Westerwald//NONSGML kigkonsult.se iCalcreator 
 2.30.10//
CALSCALE:GREGORIAN
METHOD:PUBLISH
UID:6f0d602e-813b-465b-8c5c-911a84890b0a
X-WR-CALNAME:iCagenda
X-WR-CALDESC:Event Management Extension for Joomla!
X-WR-RELCALID:3E26604A-50F4-4449-8B3E-E4F4932D05B5
X-WR-TIMEZONE:UTC
BEGIN:VTIMEZONE
TZID:UTC
END:VTIMEZONE
BEGIN:VEVENT
UID:79e0eeee-4a76-4483-8dee-dc9836ecc40b
DTSTAMP:20260420T090521Z
CATEGORIES:Hallenbelegung
CLASS:PUBLIC
DESCRIPTION:
DTSTART:20251223T170000Z
DTEND:20251223T170000Z
GEO:00;0
LOCATION:Dorfgemeinschaftshalle Oberahr
ORGANIZER:
SEQUENCE:1
SUMMARY:TuS Niederahr Training E-Jugend
TRANSP:OPAQUE
URL:https://oberahr.de/component/icagenda/243-tus-niederahr-training-e-juge
 nd/2025-12-23-17-00
END:VEVENT
END:VCALENDAR
