BEGIN:VCALENDAR
VERSION:2.0
PRODID:-//Gemeinde Oberahr / Westerwald//NONSGML kigkonsult.se iCalcreator 
 2.30.10//
CALSCALE:GREGORIAN
METHOD:PUBLISH
UID:a4024a2c-c0d3-47b6-8c20-20a13d4deef6
X-WR-CALNAME:iCagenda
X-WR-CALDESC:Event Management Extension for Joomla!
X-WR-RELCALID:3E26604A-50F4-4449-8B3E-E4F4932D05B5
X-WR-TIMEZONE:UTC
BEGIN:VTIMEZONE
TZID:UTC
END:VTIMEZONE
BEGIN:VEVENT
UID:609f1260-1e13-4e22-a966-90bbf7ad90c4
DTSTAMP:20260424T104645Z
CATEGORIES:Hallenbelegung
CLASS:PUBLIC
DESCRIPTION:
DTSTART:20251229T194400Z
DTEND:20251229T194400Z
GEO:00;0
LOCATION:Dorfgemeinschaftshalle Oberahr
ORGANIZER:
SEQUENCE:1
SUMMARY:Tus Wanderung zwischen den Jahren
TRANSP:OPAQUE
URL:https://oberahr.de/component/icagenda/242-tus-wanderung-zwischen-den-ja
 hren/2025-12-29-19-44
END:VEVENT
END:VCALENDAR
