BEGIN:VCALENDAR
VERSION:2.0
PRODID:-//Gemeinde Oberahr / Westerwald//NONSGML kigkonsult.se iCalcreator 
 2.30.10//
CALSCALE:GREGORIAN
METHOD:PUBLISH
UID:c35dd4b2-3fa5-4d95-a387-1b03cac8b0f3
X-WR-CALNAME:iCagenda
X-WR-CALDESC:Event Management Extension for Joomla!
X-WR-RELCALID:3E26604A-50F4-4449-8B3E-E4F4932D05B5
X-WR-TIMEZONE:UTC
BEGIN:VTIMEZONE
TZID:UTC
END:VTIMEZONE
BEGIN:VEVENT
UID:88f002a4-b970-42f6-b2a7-0f7e11c63f05
DTSTAMP:20260420T091310Z
CATEGORIES:Hallenbelegung
CLASS:PUBLIC
DESCRIPTION:
DTSTART:20260412T103300Z
DTEND:20260412T103300Z
GEO:00;0
LOCATION:Nebenraum und Küche DGH
ORGANIZER:
SEQUENCE:1
SUMMARY:Kommunion Felix Steudter
TRANSP:OPAQUE
URL:https://oberahr.de/component/icagenda/227-kommunion-felix-steudter/2026
 -04-12-10-33
END:VEVENT
END:VCALENDAR
