BEGIN:VCALENDAR
VERSION:2.0
PRODID:-//Gemeinde Oberahr / Westerwald//NONSGML kigkonsult.se iCalcreator 
 2.30.10//
CALSCALE:GREGORIAN
METHOD:PUBLISH
UID:76a2cdfe-b09c-4671-ac59-7c74ea59b37d
X-WR-CALNAME:iCagenda
X-WR-CALDESC:Event Management Extension for Joomla!
X-WR-RELCALID:3E26604A-50F4-4449-8B3E-E4F4932D05B5
X-WR-TIMEZONE:UTC
BEGIN:VTIMEZONE
TZID:UTC
END:VTIMEZONE
BEGIN:VEVENT
UID:02c85a4a-5308-4820-ad0c-d6726a2c03f1
DTSTAMP:20260420T175748Z
CATEGORIES:Veranstaltungen
CLASS:PUBLIC
DESCRIPTION:
DTSTART:20251111T180000Z
DTEND:20251111T180000Z
GEO:00;0
LOCATION:Dorfgemeinschaftshalle Oberahr
ORGANIZER:
SEQUENCE:1
SUMMARY:Sankt Martin
TRANSP:OPAQUE
URL:https://oberahr.de/component/icagenda/223-sankt-martin-3/2025-11-11-18-
 00
END:VEVENT
END:VCALENDAR
