BEGIN:VCALENDAR
VERSION:2.0
PRODID:-//Gemeinde Oberahr / Westerwald//NONSGML kigkonsult.se iCalcreator 
 2.30.10//
CALSCALE:GREGORIAN
METHOD:PUBLISH
UID:7a45eac1-393d-4960-ba73-d4f4e42eee39
X-WR-CALNAME:iCagenda
X-WR-CALDESC:Event Management Extension for Joomla!
X-WR-RELCALID:3E26604A-50F4-4449-8B3E-E4F4932D05B5
X-WR-TIMEZONE:UTC
BEGIN:VTIMEZONE
TZID:UTC
END:VTIMEZONE
BEGIN:VEVENT
UID:eccd1299-30fa-4e68-b358-ea421cc6f439
DTSTAMP:20260424T193555Z
CATEGORIES:Hallenbelegung
CLASS:PUBLIC
DESCRIPTION:
DTSTART:20250228T170000Z
DTEND:20250228T180000Z
GEO:+50.503345;+7.867068
LOCATION:Dorfgemeinschaftshalle Oberahr
ORGANIZER:
SEQUENCE:1
SUMMARY:YOGA des TuS Oberahr
TRANSP:OPAQUE
URL:https://oberahr.de/component/icagenda/207-yoga-des-tus-oberahr-2/2025-0
 2-28-17-00
END:VEVENT
END:VCALENDAR
