BEGIN:VCALENDAR
VERSION:2.0
PRODID:-//Gemeinde Oberahr / Westerwald//NONSGML kigkonsult.se iCalcreator 
 2.30.10//
CALSCALE:GREGORIAN
METHOD:PUBLISH
UID:270ca8fb-30b0-4fd1-977d-cd4c53cffde4
X-WR-CALNAME:iCagenda
X-WR-CALDESC:Event Management Extension for Joomla!
X-WR-RELCALID:3E26604A-50F4-4449-8B3E-E4F4932D05B5
X-WR-TIMEZONE:UTC
BEGIN:VTIMEZONE
TZID:UTC
END:VTIMEZONE
BEGIN:VEVENT
UID:3ce5bd3f-7b32-421e-8642-2867af807326
DTSTAMP:20260424T220934Z
CATEGORIES:Hallenbelegung
CLASS:PUBLIC
DESCRIPTION;ALTREP="CID:<FFFF__=0ABBE548DFE235B58f9e8a93d@coffeebean.com>":
 Auch in diesem Jahr lädt der MGV 'Harmonie 1919' Oberahr wieder zum Kinder
 karneval in die Dorfgemeinschaftshalle nach Oberahr ein.
DTSTART:20250303T155400Z
DTEND:20250303T155400Z
GEO:00;0
LOCATION:Dorfgemeinschaftshalle Oberahr
ORGANIZER:
SEQUENCE:1
SUMMARY:Kinderkarneval
TRANSP:OPAQUE
URL:https://oberahr.de/component/icagenda/205-kinderkarneval-2/2025-03-03-1
 5-54
END:VEVENT
END:VCALENDAR
