BEGIN:VCALENDAR
VERSION:2.0
PRODID:-//Gemeinde Oberahr / Westerwald//NONSGML kigkonsult.se iCalcreator 
 2.30.10//
CALSCALE:GREGORIAN
METHOD:PUBLISH
UID:c3b0e046-cae3-44a6-bccb-5650c6151087
X-WR-CALNAME:iCagenda
X-WR-CALDESC:Event Management Extension for Joomla!
X-WR-RELCALID:3E26604A-50F4-4449-8B3E-E4F4932D05B5
X-WR-TIMEZONE:UTC
BEGIN:VTIMEZONE
TZID:UTC
END:VTIMEZONE
BEGIN:VEVENT
UID:3e64ee9d-dce4-4955-93ab-68d6aef73de5
DTSTAMP:20260420T050256Z
CATEGORIES:Hallenbelegung
CLASS:PUBLIC
DESCRIPTION:
DTSTART:20240315T000000Z
DTEND:20240315T000000Z
GEO:00;0
LOCATION:Nebenraum DGH
ORGANIZER:
SEQUENCE:1
SUMMARY:JHV Damengymnastikverein
TRANSP:OPAQUE
URL:https://oberahr.de/component/icagenda/169-jhv-damengymnastikverein-2
END:VEVENT
END:VCALENDAR
