BEGIN:VCALENDAR
VERSION:2.0
PRODID:-//Gemeinde Oberahr / Westerwald//NONSGML kigkonsult.se iCalcreator 
 2.30.10//
CALSCALE:GREGORIAN
METHOD:PUBLISH
UID:dec62eb4-9caf-4985-beda-380663f4d802
X-WR-CALNAME:iCagenda
X-WR-CALDESC:Event Management Extension for Joomla!
X-WR-RELCALID:3E26604A-50F4-4449-8B3E-E4F4932D05B5
X-WR-TIMEZONE:UTC
BEGIN:VTIMEZONE
TZID:UTC
END:VTIMEZONE
BEGIN:VEVENT
UID:1c21d41f-e39b-436f-b512-e14f1dc64e24
DTSTAMP:20260425T002810Z
CATEGORIES:Veranstaltungen
CLASS:PUBLIC
DESCRIPTION;ALTREP="CID:<FFFF__=0ABBE548DFE235B58f9e8a93d@coffeebean.com>":
 Der TuS Oberahr veranstaltet an diesem Sonntag einen Familienwandertag run
 d um Oberahr. Teilnehmen kann jeder\, der rund um Oberahr wandern oder spa
 zieren gehen möchte. Für reichahltige Verpflegung ist an der Dorfgemeinsch
 aftshalle bestens gesorgt.
DTSTART:20240908T000300Z
DTEND:20240908T235900Z
GEO:00;0
LOCATION:Dorfgemeinschaftshalle Oberahr
ORGANIZER;CN=:michael_foitzik@hotmail.com
SEQUENCE:1
SUMMARY:Familienwanderung rund um Oberahr
TRANSP:OPAQUE
URL:https://oberahr.de/component/icagenda/153-familienwanderung-rund-um-obe
 rahr
END:VEVENT
END:VCALENDAR
