BEGIN:VCALENDAR
VERSION:2.0
PRODID:-//Gemeinde Oberahr / Westerwald//NONSGML kigkonsult.se iCalcreator 
 2.30.10//
CALSCALE:GREGORIAN
METHOD:PUBLISH
UID:1079b93d-cbc0-4b54-9f48-73bf8c70952b
X-WR-CALNAME:iCagenda
X-WR-CALDESC:Event Management Extension for Joomla!
X-WR-RELCALID:3E26604A-50F4-4449-8B3E-E4F4932D05B5
X-WR-TIMEZONE:UTC
BEGIN:VTIMEZONE
TZID:UTC
END:VTIMEZONE
BEGIN:VEVENT
UID:300e34e1-caca-4094-8b2d-e082c36ea7b4
DTSTAMP:20260424T163803Z
CATEGORIES:Hallenbelegung
CLASS:PUBLIC
DESCRIPTION:
DTSTART:20230912T190000Z
DTEND:20230912T200000Z
GEO:00;0
LOCATION:Dorfgemeinschaftshalle Oberahr
ORGANIZER:
SEQUENCE:1
SUMMARY:TUS - Stepairobic
TRANSP:OPAQUE
URL:https://oberahr.de/component/icagenda/143-tus-stepairobic/2023-09-12-19
 -00?iccaldate=2025-04-1
END:VEVENT
END:VCALENDAR
