BEGIN:VCALENDAR
VERSION:2.0
PRODID:-//Gemeinde Oberahr / Westerwald//NONSGML kigkonsult.se iCalcreator 
 2.30.10//
CALSCALE:GREGORIAN
METHOD:PUBLISH
UID:8480b8b2-3f2d-4f43-9c98-cd99b52f8b6b
X-WR-CALNAME:iCagenda
X-WR-CALDESC:Event Management Extension for Joomla!
X-WR-RELCALID:3E26604A-50F4-4449-8B3E-E4F4932D05B5
X-WR-TIMEZONE:UTC
BEGIN:VTIMEZONE
TZID:UTC
END:VTIMEZONE
BEGIN:VEVENT
UID:fe8cb3a5-74b3-4834-b67f-b9683b3f0e21
DTSTAMP:20260421T143243Z
CATEGORIES:Hallenbelegung
CLASS:PUBLIC
DESCRIPTION:
DTSTART:20230215T170000Z
DTEND:20230215T190000Z
GEO:00;0
LOCATION:Dorfgemeinschaftshalle Oberahr
ORGANIZER:
SEQUENCE:1
SUMMARY:TUS Niederahr - F-Jugend
TRANSP:OPAQUE
URL:https://oberahr.de/component/icagenda/139-tus-niederahr-f-jugend/2023-0
 2-15-17-00
END:VEVENT
END:VCALENDAR
