BEGIN:VCALENDAR
VERSION:2.0
PRODID:-//Gemeinde Oberahr / Westerwald//NONSGML kigkonsult.se iCalcreator 
 2.30.10//
CALSCALE:GREGORIAN
METHOD:PUBLISH
UID:c2175fea-d583-4978-a38c-75c9733ef651
X-WR-CALNAME:iCagenda
X-WR-CALDESC:Event Management Extension for Joomla!
X-WR-RELCALID:3E26604A-50F4-4449-8B3E-E4F4932D05B5
X-WR-TIMEZONE:UTC
BEGIN:VTIMEZONE
TZID:UTC
END:VTIMEZONE
BEGIN:VEVENT
UID:95a88e12-620d-4f22-b130-9f439cd55e41
DTSTAMP:20260422T151538Z
CATEGORIES:Hallenbelegung
CLASS:PUBLIC
DESCRIPTION:
DTSTART:20230125T170000Z
DTEND:20230125T190000Z
GEO:00;0
LOCATION:Dorfgemeinschaftshalle Oberahr
ORGANIZER:
SEQUENCE:1
SUMMARY:TUS Niederahr - F-Jugend
TRANSP:OPAQUE
URL:https://oberahr.de/component/icagenda/139-tus-niederahr-f-jugend/2023-0
 1-25-17-00
END:VEVENT
END:VCALENDAR
