BEGIN:VCALENDAR
VERSION:2.0
PRODID:-//Gemeinde Oberahr / Westerwald//NONSGML kigkonsult.se iCalcreator 
 2.30.10//
CALSCALE:GREGORIAN
METHOD:PUBLISH
UID:40e78937-0cb3-4a84-b14b-e844dc5c79b4
X-WR-CALNAME:iCagenda
X-WR-CALDESC:Event Management Extension for Joomla!
X-WR-RELCALID:3E26604A-50F4-4449-8B3E-E4F4932D05B5
X-WR-TIMEZONE:UTC
BEGIN:VTIMEZONE
TZID:UTC
END:VTIMEZONE
BEGIN:VEVENT
UID:7ffe7fa8-6bf5-4d6a-9b40-26e3c9f22b75
DTSTAMP:20260425T015119Z
CATEGORIES:Hallenbelegung
CLASS:PUBLIC
DESCRIPTION:
DTSTART:20240726T163000Z
DTEND:20240726T163000Z
GEO:00;0
LOCATION:
ORGANIZER:
SEQUENCE:1
SUMMARY:TUS Niederahr --  Bambini Training
TRANSP:OPAQUE
URL:https://oberahr.de/component/icagenda/125-tus-niederahr-bambini-trainin
 g/2024-07-26-16-30
END:VEVENT
END:VCALENDAR
