BEGIN:VCALENDAR
VERSION:2.0
PRODID:-//Gemeinde Oberahr / Westerwald//NONSGML kigkonsult.se iCalcreator 
 2.30.10//
CALSCALE:GREGORIAN
METHOD:PUBLISH
UID:9749cdb3-94ed-4344-baf2-adaf0bd049de
X-WR-CALNAME:iCagenda
X-WR-CALDESC:Event Management Extension for Joomla!
X-WR-RELCALID:3E26604A-50F4-4449-8B3E-E4F4932D05B5
X-WR-TIMEZONE:UTC
BEGIN:VTIMEZONE
TZID:UTC
END:VTIMEZONE
BEGIN:VEVENT
UID:45c38ae2-a9e4-473d-b00f-6cdf5f86b98a
DTSTAMP:20260422T090016Z
CATEGORIES:Hallenbelegung
CLASS:PUBLIC
DESCRIPTION:
DTSTART:20221007T163000Z
DTEND:20221007T163000Z
GEO:00;0
LOCATION:
ORGANIZER:
SEQUENCE:1
SUMMARY:TUS Niederahr --  Bambini Training
TRANSP:OPAQUE
URL:https://oberahr.de/component/icagenda/125-tus-niederahr-bambini-trainin
 g/2022-10-07-16-30
END:VEVENT
END:VCALENDAR
