BEGIN:VCALENDAR
VERSION:2.0
PRODID:-//Gemeinde Oberahr / Westerwald//NONSGML kigkonsult.se iCalcreator 
 2.30.10//
CALSCALE:GREGORIAN
METHOD:PUBLISH
UID:082f0d1e-7831-4c57-8d56-01b319cadffe
X-WR-CALNAME:iCagenda
X-WR-CALDESC:Event Management Extension for Joomla!
X-WR-RELCALID:3E26604A-50F4-4449-8B3E-E4F4932D05B5
X-WR-TIMEZONE:UTC
BEGIN:VTIMEZONE
TZID:UTC
END:VTIMEZONE
BEGIN:VEVENT
UID:51262ead-a64d-41d0-918c-e57f9495f369
DTSTAMP:20260422T104640Z
CATEGORIES:Hallenbelegung
CLASS:PUBLIC
DESCRIPTION;ALTREP="CID:<FFFF__=0ABBE548DFE235B58f9e8a93d@coffeebean.com>":
 Senioren Volleyball des TUS Oberahr
DTSTART:20250303T170000Z
DTEND:20250303T170000Z
GEO:00;0
LOCATION:
ORGANIZER:
SEQUENCE:1
SUMMARY:TUS Senioren Volleyball
TRANSP:OPAQUE
URL:https://oberahr.de/component/icagenda/124-tus-senioren-volleyball/2025-
 03-03-17-00
END:VEVENT
END:VCALENDAR
