BEGIN:VCALENDAR
VERSION:2.0
PRODID:-//Gemeinde Oberahr / Westerwald//NONSGML kigkonsult.se iCalcreator 
 2.30.10//
CALSCALE:GREGORIAN
METHOD:PUBLISH
UID:c6fb7b61-a6c4-4d50-9b21-04ce04560a85
X-WR-CALNAME:iCagenda
X-WR-CALDESC:Event Management Extension for Joomla!
X-WR-RELCALID:3E26604A-50F4-4449-8B3E-E4F4932D05B5
X-WR-TIMEZONE:UTC
BEGIN:VTIMEZONE
TZID:UTC
END:VTIMEZONE
BEGIN:VEVENT
UID:53977a82-5375-432a-95e8-9dcb02225245
DTSTAMP:20260421T060426Z
CATEGORIES:Hallenbelegung
CLASS:PUBLIC
DESCRIPTION;ALTREP="CID:<FFFF__=0ABBE548DFE235B58f9e8a93d@coffeebean.com>":
 Senioren Volleyball des TUS Oberahr
DTSTART:20230227T170000Z
DTEND:20230227T170000Z
GEO:00;0
LOCATION:
ORGANIZER:
SEQUENCE:1
SUMMARY:TUS Senioren Volleyball
TRANSP:OPAQUE
URL:https://oberahr.de/component/icagenda/124-tus-senioren-volleyball/2023-
 02-27-17-00
END:VEVENT
END:VCALENDAR
