BEGIN:VCALENDAR
VERSION:2.0
PRODID:-//Gemeinde Oberahr / Westerwald//NONSGML kigkonsult.se iCalcreator 
 2.30.10//
CALSCALE:GREGORIAN
METHOD:PUBLISH
UID:dc237a6a-1b88-430a-9769-1cbb94c6467e
X-WR-CALNAME:iCagenda
X-WR-CALDESC:Event Management Extension for Joomla!
X-WR-RELCALID:3E26604A-50F4-4449-8B3E-E4F4932D05B5
X-WR-TIMEZONE:UTC
BEGIN:VTIMEZONE
TZID:UTC
END:VTIMEZONE
BEGIN:VEVENT
UID:8cd0f6c4-a922-40ec-9386-98e3d99330ba
DTSTAMP:20260420T175559Z
CATEGORIES:Hallenbelegung
CLASS:PUBLIC
DESCRIPTION;ALTREP="CID:<FFFF__=0ABBE548DFE235B58f9e8a93d@coffeebean.com>":
 Tanztraining der Gardetanzgruppe Oberahr\; Ansprechpartner Fabienne Wetisc
 hka
DTSTART:20231123T180000Z
DTEND:20231123T200000Z
GEO:00;0
LOCATION:Dorfgemeinschaftshalle Oberahr
ORGANIZER:
SEQUENCE:1
SUMMARY:DGV Oberahr Gardetraining
TRANSP:OPAQUE
URL:https://oberahr.de/component/icagenda/101-garde-oberahr/2023-11-23-18-0
 0
END:VEVENT
END:VCALENDAR
