BEGIN:VCALENDAR
VERSION:2.0
PRODID:-//Gemeinde Oberahr / Westerwald//NONSGML kigkonsult.se iCalcreator 
 2.30.10//
CALSCALE:GREGORIAN
METHOD:PUBLISH
UID:96b37f42-8e93-4092-8839-393e6c7a0d02
X-WR-CALNAME:iCagenda
X-WR-CALDESC:Event Management Extension for Joomla!
X-WR-RELCALID:3E26604A-50F4-4449-8B3E-E4F4932D05B5
X-WR-TIMEZONE:UTC
BEGIN:VTIMEZONE
TZID:UTC
END:VTIMEZONE
BEGIN:VEVENT
UID:f15d6d9b-57a5-4176-a450-771b7c7fd744
DTSTAMP:20260425T004927Z
CATEGORIES:Hallenbelegung
CLASS:PUBLIC
DESCRIPTION;ALTREP="CID:<FFFF__=0ABBE548DFE235B58f9e8a93d@coffeebean.com>":
 Tanztraining der Gardetanzgruppe Oberahr\; Ansprechpartner Fabienne Wetisc
 hka
DTSTART:20221103T180000Z
DTEND:20221103T200000Z
GEO:00;0
LOCATION:Dorfgemeinschaftshalle Oberahr
ORGANIZER:
SEQUENCE:1
SUMMARY:DGV Oberahr Gardetraining
TRANSP:OPAQUE
URL:https://oberahr.de/component/icagenda/101-garde-oberahr/2022-11-03-18-0
 0
END:VEVENT
END:VCALENDAR
