BEGIN:VCALENDAR
VERSION:2.0
PRODID:-//Gemeinde Oberahr / Westerwald//NONSGML kigkonsult.se iCalcreator 
 2.30.10//
CALSCALE:GREGORIAN
METHOD:PUBLISH
UID:a1e6015c-852b-4c1c-be7d-d477c885e456
X-WR-CALNAME:iCagenda
X-WR-CALDESC:Event Management Extension for Joomla!
X-WR-RELCALID:3E26604A-50F4-4449-8B3E-E4F4932D05B5
X-WR-TIMEZONE:UTC
BEGIN:VTIMEZONE
TZID:UTC
END:VTIMEZONE
BEGIN:VEVENT
UID:803a9c25-1a80-4572-823c-1f5435e4e746
DTSTAMP:20260425T184533Z
CATEGORIES:Hallenbelegung
CLASS:PUBLIC
DESCRIPTION;ALTREP="CID:<FFFF__=0ABBE548DFE235B58f9e8a93d@coffeebean.com>":
 Tanztraining der Gardetanzgruppe Oberahr\; Ansprechpartner Fabienne Wetisc
 hka
DTSTART:20220526T180000Z
DTEND:20220526T200000Z
GEO:00;0
LOCATION:Dorfgemeinschaftshalle Oberahr
ORGANIZER:
SEQUENCE:1
SUMMARY:DGV Oberahr Gardetraining
TRANSP:OPAQUE
URL:https://oberahr.de/component/icagenda/101-garde-oberahr/2022-05-26-18-0
 0
END:VEVENT
END:VCALENDAR
