BEGIN:VCALENDAR
VERSION:2.0
PRODID:-//Gemeinde Oberahr / Westerwald//NONSGML kigkonsult.se iCalcreator 
 2.30.10//
CALSCALE:GREGORIAN
METHOD:PUBLISH
UID:b1797f2d-53b1-4ae6-9d49-2d832e91ddc5
X-WR-CALNAME:iCagenda
X-WR-CALDESC:Event Management Extension for Joomla!
X-WR-RELCALID:3E26604A-50F4-4449-8B3E-E4F4932D05B5
X-WR-TIMEZONE:UTC
BEGIN:VTIMEZONE
TZID:UTC
END:VTIMEZONE
BEGIN:VEVENT
UID:dd978598-ed48-4d6e-9388-ff1da240a470
DTSTAMP:20260425T014105Z
CATEGORIES:Hallenbelegung
CLASS:PUBLIC
DESCRIPTION:
DTSTART:20241107T193000Z
DTEND:20241107T213000Z
GEO:00;0
LOCATION:Dorfgemeinschaftshalle Oberahr
ORGANIZER:
SEQUENCE:1
SUMMARY:TUS Oberahr Magic Star Dancers Training
TRANSP:OPAQUE
URL:https://oberahr.de/component/icagenda/100-magic-star-dancers/2024-11-07
 -19-30
END:VEVENT
END:VCALENDAR
